BEGIN:VCALENDAR
VERSION:2.0
PRODID:-//Library Market//iCal Export//EN
BEGIN:VEVENT
SUMMARY:Long-Term Plan Committee
UID:35599
DTSTAMP:20260423T071500Z
DTSTART:20260429T220000Z
DTEND:20260429T230000Z
LOCATION:Bethlehem Public Library, 451 Delaware Ave, Delmar, NY 12054, Uni
 ted States
ROOM: Story Room
DESCRIPTION:
URL:https://bethlehem.librarycalendar.com/event/long-term-plan-committee-3
 5599
END:VEVENT
END:VCALENDAR
