BEGIN:VCALENDAR
VERSION:2.0
PRODID:-//Library Market//iCal Export//EN
BEGIN:VEVENT
SUMMARY:Paws to Read
UID:35374
DTSTAMP:20260424T192500Z
DTSTART:20260601T200000Z
DTEND:20260601T204500Z
LOCATION:Bethlehem Public Library, 451 Delaware Ave, Delmar, NY 12054, Uni
 ted States
ROOM: Green
DESCRIPTION:
URL:https://bethlehem.librarycalendar.com/event/paws-read-rain-location-35
 374
END:VEVENT
END:VCALENDAR
