BEGIN:VCALENDAR
VERSION:2.0
PRODID:-//Library Market//iCal Export//EN
BEGIN:VEVENT
SUMMARY:Thursdays in the Park: Jester Jim
UID:34995
DTSTAMP:20260424T025400Z
DTSTART:20260618T220000Z
DTEND:20260618T230000Z
LOCATION:261 Elm Ave, Delmar, NY 12054, United States
ROOM: Thursdays in the Park: Jester Jim
DESCRIPTION:Jester Jim is back! This is not your ordinary juggling show! W
 ith a trunk full of props and a looping machine, all will be glued to ever
 y sight and sound.The Parks and Recreation Department, Bethlehem Public Li
 brary, and Friends of Bethlehem Public Library are once again teaming up t
 o host the popular “Thursdays in the Park” event series! All shows beg
 in at 6:00 PM on the special events lawn (adjacent to the pool entrance) a
 t Elm Avenue Park, unless an alternate park location is noted.Please be ad
 vised ALCOHOLIC BEVERAGES ARE PROHIBITED. In case of rain, every effort w
 ill be made to reschedule. Please call, check the online calendar or Faceb
 ook page for the status of this program.
URL:https://bethlehem.librarycalendar.com/event/thursdays-park-jester-jim-
 34995
END:VEVENT
END:VCALENDAR
