BEGIN:VCALENDAR
VERSION:2.0
PRODID:-//Library Market//iCal Export//EN
BEGIN:VEVENT
SUMMARY:Summer Reading Kick-Off: Party on The Green
UID:34894
DTSTAMP:20260424T025400Z
DTSTART:20260626T180000Z
DTEND:20260626T200000Z
LOCATION:Bethlehem Public Library, 451 Delaware Ave, Delmar, NY 12054, Uni
 ted States
ROOM: Green
DESCRIPTION:We&#039;ll be kicking off Summer Reading 2026 with an afternoo
 n of fun at the library! Get ready to party with an afternoon craft, face 
 painting, snacks and more. Don’t forget to stop by the registration tabl
 e and sign up for the Summer Reading Challenge. 
URL:https://bethlehem.librarycalendar.com/event/summer-reading-kick-party-
 green-34894
END:VEVENT
END:VCALENDAR
