BEGIN:VCALENDAR
VERSION:2.0
PRODID:-//Library Market//iCal Export//EN
BEGIN:VEVENT
SUMMARY:Royal Tea Party
UID:34874
DTSTAMP:20260425T194100Z
DTSTART:20260511T140000Z
DTEND:20260511T150000Z
LOCATION:Bethlehem Public Library, 451 Delaware Ave, Delmar, NY 12054, Uni
 ted States
ROOM: Community Room
DESCRIPTION:Come dressed as your favorite princess or prince and enjoy ice
 d tea and cookies while listening to some stories and songs. Then, give us
  your best royal wave as we make our way to the Children&#039;s Place wher
 e you can design your own crown.Best suited for ages 3 and up.
URL:https://bethlehem.librarycalendar.com/event/royal-tea-party-34874
END:VEVENT
END:VCALENDAR
