BEGIN:VCALENDAR
VERSION:2.0
PRODID:-//Library Market//iCal Export//EN
BEGIN:VEVENT
SUMMARY:Free Comic Book Day in the Teen Corner
UID:34831
DTSTAMP:20260424T162800Z
DTSTART:20260502T150000Z
DTEND:20260502T200000Z
LOCATION:Bethlehem Public Library, 451 Delaware Ave, Delmar, NY 12054, Uni
 ted States
ROOM: Free Comic Book Day in the Teen Corner
DESCRIPTION:Celebrate Free Comic Book Day by dropping by the Teen Area for
  comics and fun activities.While supplies last.
URL:https://bethlehem.librarycalendar.com/event/comic-book-day-teens-corne
 r-34831
END:VEVENT
END:VCALENDAR
