BEGIN:VCALENDAR
VERSION:2.0
PRODID:-//Library Market//iCal Export//EN
BEGIN:VEVENT
SUMMARY:Free Comic Book Day at the Children&#039;s Place
UID:34830
DTSTAMP:20260424T054900Z
DTSTART:20260502T150000Z
DTEND:20260502T200000Z
LOCATION:Bethlehem Public Library, 451 Delaware Ave, Delmar, NY 12054, Uni
 ted States
ROOM: Children&#039;s Place
DESCRIPTION:Celebrate Free Comic Book Day by dropping by the Children&#039
 ;s Place for free comics and fun activities.While supplies last.
URL:https://bethlehem.librarycalendar.com/event/comic-book-day-childrens-p
 lace-34830
END:VEVENT
END:VCALENDAR
