BEGIN:VCALENDAR
VERSION:2.0
PRODID:-//Library Market//iCal Export//EN
BEGIN:VEVENT
SUMMARY:Trivia at the Library
UID:34774
DTSTAMP:20260424T233500Z
DTSTART:20260510T180000Z
DTEND:20260510T190000Z
LOCATION:Bethlehem Public Library, 451 Delaware Ave, Delmar, NY 12054, Uni
 ted States
ROOM: Community Room
DESCRIPTION:Trivia Night returns - in the afternoon! Teams and singles are
  welcome to compete. There will be popcorn and prizes.No registration nece
 ssary.
URL:https://bethlehem.librarycalendar.com/event/trivia-34774
END:VEVENT
END:VCALENDAR
