BEGIN:VCALENDAR
VERSION:2.0
PRODID:-//Library Market//iCal Export//EN
BEGIN:VEVENT
SUMMARY:Mahjong
UID:34498
DTSTAMP:20260424T161700Z
DTSTART:20260528T183000Z
DTEND:20260528T203000Z
LOCATION:Bethlehem Public Library, 451 Delaware Ave, Delmar, NY 12054, Uni
 ted States
ROOM: Community Room
DESCRIPTION:Join us for an afternoon of Mahjong!Please note: Beginners are
  welcome to come and play but this is not a structured Mahjong class and t
 here will not be formal instruction.If you have a Mahjong set that you wou
 ld be willing to bring, please reach out to luke@bethpl.org. We may be abl
 e to accommodate more players based on the availability of additional tile
  sets. 
URL:https://bethlehem.librarycalendar.com/event/mahjong-34498
END:VEVENT
END:VCALENDAR
