BEGIN:VCALENDAR
VERSION:2.0
PRODID:-//Library Market//iCal Export//EN
BEGIN:VEVENT
SUMMARY:Outdoor Dance Party
UID:34473
DTSTAMP:20260423T173800Z
DTSTART:20260608T150000Z
DTEND:20260608T153000Z
LOCATION:Bethlehem Public Library, 451 Delaware Ave, Delmar, NY 12054, Uni
 ted States
ROOM: Green
DESCRIPTION:Join us on the Green for some music, rhymes, and dancing!  
URL:https://bethlehem.librarycalendar.com/event/outdoor-dance-party-34473
END:VEVENT
END:VCALENDAR
