BEGIN:VCALENDAR
VERSION:2.0
PRODID:-//Library Market//iCal Export//EN
BEGIN:VEVENT
SUMMARY:Kids Build
UID:34367
DTSTAMP:20260424T233600Z
DTSTART:20260630T180000Z
DTEND:20260630T200000Z
LOCATION:Bethlehem Public Library, 451 Delaware Ave, Delmar, NY 12054, Uni
 ted States
ROOM: Community Room
DESCRIPTION:Drop in for a free-play build session featuring Lego, K&#039;n
 ex, snap-circuits and more.
URL:https://bethlehem.librarycalendar.com/event/kids-build-34367
END:VEVENT
END:VCALENDAR
