BEGIN:VCALENDAR
VERSION:2.0
PRODID:-//Library Market//iCal Export//EN
BEGIN:VEVENT
SUMMARY:Teen DIY: Flower Tea Lights
UID:34366
DTSTAMP:20260424T162800Z
DTSTART:20260520T193000Z
DTEND:20260520T203000Z
LOCATION:Bethlehem Public Library, 451 Delaware Ave, Delmar, NY 12054, Uni
 ted States
ROOM: Board Room
DESCRIPTION:Celebrate spring by making colorful and cozy tea lights. For t
 eens grades 6-12. There is no registration, however, supplies are limited
 . 
URL:https://bethlehem.librarycalendar.com/event/md-hold-34366
END:VEVENT
END:VCALENDAR
