BEGIN:VCALENDAR
VERSION:2.0
PRODID:-//Library Market//iCal Export//EN
BEGIN:VEVENT
SUMMARY:DIY Paper Making
UID:34319
DTSTAMP:20260424T233500Z
DTSTART:20260611T150000Z
DTEND:20260611T160000Z
LOCATION:Bethlehem Public Library, 451 Delaware Ave, Delmar, NY 12054, Uni
 ted States
ROOM: Community Room
DESCRIPTION:Let&#039;s try something new together - paper making! We&#039;
 ll use recycled paper scraps and botanicals to make unique art paper using
  the &quot;pour method&quot; of papermaking. This process can get wet and 
 messy, so please dress accordingly.If this session is full, there is an ad
 ditional session of this program on Wednesday, June 10 at 6:00pm. Please 
 only sign up for one session; any duplicate registrations will be removed.
  Teens 14 and older welcome! 
URL:https://bethlehem.librarycalendar.com/event/papermaking2
END:VEVENT
END:VCALENDAR
