BEGIN:VCALENDAR
VERSION:2.0
PRODID:-//Library Market//iCal Export//EN
BEGIN:VEVENT
SUMMARY:Family Play Time
UID:34063
DTSTAMP:20260425T194100Z
DTSTART:20260629T150000Z
DTEND:20260629T160000Z
LOCATION:Bethlehem Public Library, 451 Delaware Ave, Delmar, NY 12054, Uni
 ted States
ROOM: Community Room
DESCRIPTION:
URL:https://bethlehem.librarycalendar.com/event/family-play-time-34063
END:VEVENT
END:VCALENDAR
