BEGIN:VCALENDAR
VERSION:2.0
PRODID:-//Library Market//iCal Export//EN
BEGIN:VEVENT
SUMMARY:Story Time and Play
UID:33544
DTSTAMP:20260423T173800Z
DTSTART:20260526T140000Z
DTEND:20260526T150000Z
LOCATION:Bethlehem Public Library, 451 Delaware Ave, Delmar, NY 12054, Uni
 ted States
ROOM: Community Room
DESCRIPTION:Join us for story time, and stick around for open play time!
URL:https://bethlehem.librarycalendar.com/event/ys-hold-lk-33544
END:VEVENT
END:VCALENDAR
