BEGIN:VCALENDAR
VERSION:2.0
PRODID:-//Library Market//iCal Export//EN
BEGIN:VEVENT
SUMMARY:Sing and Dance with Andy the Music Man
UID:33325
DTSTAMP:20260424T025400Z
DTSTART:20260625T153000Z
DTEND:20260625T161500Z
LOCATION:Bethlehem Public Library, 451 Delaware Ave, Delmar, NY 12054, Uni
 ted States
ROOM: Green
DESCRIPTION:Get ready to kick off Summer Reading 2026 with some musical fu
 n hosted by our friend Andy the Music the Man. We will sing, dance and enj
 oy some family fun on the Green. While you&#039;re here, you can stop by t
 he registration table and sign up for summer reading!
URL:https://bethlehem.librarycalendar.com/event/summer-reading-kick-33325
END:VEVENT
END:VCALENDAR
