BEGIN:VCALENDAR
VERSION:2.0
PRODID:-//Library Market//iCal Export//EN
BEGIN:VEVENT
SUMMARY:Study Hall at the Library
UID:33278
DTSTAMP:20260425T032700Z
DTSTART:20260617T210000Z
DTEND:20260618T004500Z
LOCATION:Bethlehem Public Library, 451 Delaware Ave, Delmar, NY 12054, Uni
 ted States
ROOM: Community Room
DESCRIPTION:Study hall at the library.
URL:https://bethlehem.librarycalendar.com/event/study-hall-library-33278
END:VEVENT
END:VCALENDAR
