BEGIN:VCALENDAR
VERSION:2.0
PRODID:-//Library Market//iCal Export//EN
BEGIN:VEVENT
SUMMARY:America 250: Songs &amp; Stories with Lost Radio Rounders
UID:33211
DTSTAMP:20260424T025400Z
DTSTART:20260630T230000Z
DTEND:20260701T000000Z
LOCATION:Bethlehem Public Library, 451 Delaware Ave, Delmar, NY 12054, Uni
 ted States
ROOM: Green
DESCRIPTION:Bethlehem Public Library welcomes back acoustic trio Lost Radi
 o Rounders for a musical journey through American history, in honor of the
  nation&#039;s 250th year in this inaugural edition of our Evening on the 
 Green series. In the event of inclement weather, this concert will take p
 lace on Wednesday, July 1.This Tuesday evening series is generously sponso
 red by the Friends of the Library. 
URL:https://bethlehem.librarycalendar.com/event/evening-green-summer-readi
 ng-kick-draft-33211
END:VEVENT
END:VCALENDAR
