BEGIN:VCALENDAR
VERSION:2.0
PRODID:-//Library Market//iCal Export//EN
BEGIN:VEVENT
SUMMARY:Chess Club
UID:33035
DTSTAMP:20260425T163000Z
DTSTART:20260615T213000Z
DTEND:20260615T230000Z
LOCATION:Bethlehem Public Library, 451 Delaware Ave, Delmar, NY 12054, Uni
 ted States
ROOM: Chess Club
DESCRIPTION:Try your hand at chess with peers or teen volunteers. All expe
 rience levels welcome. For grades K-5.Sessions held in the Children&#039;s
  Place.
URL:https://bethlehem.librarycalendar.com/event/chess-club-33035
END:VEVENT
END:VCALENDAR
