BEGIN:VCALENDAR
VERSION:2.0
PRODID:-//Library Market//iCal Export//EN
BEGIN:VEVENT
SUMMARY:Creation Station: June
UID:32862
DTSTAMP:20260425T135900Z
DTSTART:20260603T133000Z
DTEND:20260604T003000Z
LOCATION:Bethlehem Public Library, 451 Delaware Ave, Delmar, NY 12054, Uni
 ted States
ROOM: Children&#039;s Place
DESCRIPTION:Join us in the Children&#039;s Place for a themed craft activi
 ty. 
URL:https://bethlehem.librarycalendar.com/event/creation-station-june-3286
 2
END:VEVENT
END:VCALENDAR
