BEGIN:VCALENDAR
VERSION:2.0
PRODID:-//Library Market//iCal Export//EN
BEGIN:VEVENT
SUMMARY:Creation Station: May
UID:32856
DTSTAMP:20260423T173800Z
DTSTART:20260507T133000Z
DTEND:20260508T003000Z
LOCATION:Bethlehem Public Library, 451 Delaware Ave, Delmar, NY 12054, Uni
 ted States
ROOM: Children&#039;s Place
DESCRIPTION:Join us in the Children&#039;s Place for a themed craft activi
 ty. 
URL:https://bethlehem.librarycalendar.com/event/creation-station-may-32856
END:VEVENT
END:VCALENDAR
