BEGIN:VCALENDAR
VERSION:2.0
PRODID:-//Library Market//iCal Export//EN
BEGIN:VEVENT
SUMMARY:Family Play Time
UID:32712
DTSTAMP:20260424T025400Z
DTSTART:20260520T150000Z
DTEND:20260520T153000Z
LOCATION:Bethlehem Public Library, 451 Delaware Ave, Delmar, NY 12054, Uni
 ted States
ROOM: Community Room
DESCRIPTION:
URL:https://bethlehem.librarycalendar.com/event/family-play-time-32712
END:VEVENT
END:VCALENDAR
