BEGIN:VCALENDAR
VERSION:2.0
PRODID:-//Library Market//iCal Export//EN
BEGIN:VEVENT
SUMMARY:Day Books
UID:32403
DTSTAMP:20260424T192500Z
DTSTART:20260601T173000Z
DTEND:20260601T183000Z
LOCATION:Bethlehem Public Library, 451 Delaware Ave, Delmar, NY 12054, Uni
 ted States
ROOM: Community Room
DESCRIPTION:Brave the Wild River by Melissa L. Sevigny will be discussed.Â
  Â 
URL:https://bethlehem.librarycalendar.com/event/day-books-32403
END:VEVENT
END:VCALENDAR
