BEGIN:VCALENDAR
VERSION:2.0
PRODID:-//Library Market//iCal Export//EN
BEGIN:VEVENT
SUMMARY:Day Books
UID:32402
DTSTAMP:20260424T054900Z
DTSTART:20260504T173000Z
DTEND:20260504T183000Z
LOCATION:Bethlehem Public Library, 451 Delaware Ave, Delmar, NY 12054, Uni
 ted States
ROOM: Community Room
DESCRIPTION:The Berry Pickers by Amanda Peters will be discussed. 
URL:https://bethlehem.librarycalendar.com/event/day-books-32402
END:VEVENT
END:VCALENDAR
