BEGIN:VCALENDAR
VERSION:2.0
PRODID:-//Library Market//iCal Export//EN
BEGIN:VEVENT
SUMMARY:Meet the Candidates
UID:32336
DTSTAMP:20260421T083600Z
DTSTART:20260505T220000Z
DTEND:20260505T230000Z
LOCATION:Bethlehem Public Library, 451 Delaware Ave, Delmar, NY 12054, Uni
 ted States
ROOM: Community Room
DESCRIPTION:The candidates seeking the one open seat on the library’s Bo
 ard of Trustees will introduce themselves and talk about why they are runn
 ing.
URL:https://bethlehem.librarycalendar.com/event/meet-candidates-32336
END:VEVENT
END:VCALENDAR
