BEGIN:VCALENDAR
VERSION:2.0
PRODID:-//Library Market//iCal Export//EN
BEGIN:VEVENT
SUMMARY:Inclusive Gaming
UID:32313
DTSTAMP:20260423T173800Z
DTSTART:20260615T140000Z
DTEND:20260615T153000Z
LOCATION:Bethlehem Public Library, 451 Delaware Ave, Delmar, NY 12054, Uni
 ted States
ROOM: Community Room
DESCRIPTION:This is an inclusive space for people, regardless of ability o
 r age, to play games with or nearby others. The most important part of gam
 ing is coming together and having fun. 
URL:https://bethlehem.librarycalendar.com/event/inclusive-gaming-32313
END:VEVENT
END:VCALENDAR
