BEGIN:VCALENDAR
VERSION:2.0
PRODID:-//Library Market//iCal Export//EN
BEGIN:VEVENT
SUMMARY:Sensory Play Time
UID:32133
DTSTAMP:20260425T194100Z
DTSTART:20260522T140000Z
DTEND:20260522T150000Z
LOCATION:Bethlehem Public Library, 451 Delaware Ave, Delmar, NY 12054, Uni
 ted States
ROOM: Community Room
DESCRIPTION:Join us for sensory shenanigans! Stop by for open-ended play a
 nd exploration with our various sensory items including Play-Doh, textured
  mats, squishy liquid tiles and more. For ages 2 and up with caregiver.
URL:https://bethlehem.librarycalendar.com/event/sensory-play-time-32133
END:VEVENT
END:VCALENDAR
