BEGIN:VCALENDAR
VERSION:2.0
PRODID:-//Library Market//iCal Export//EN
BEGIN:VEVENT
SUMMARY:Study Hall at the Library
UID:31527
DTSTAMP:20260424T162800Z
DTSTART:20260512T180000Z
DTEND:20260513T004500Z
LOCATION:Bethlehem Public Library, 451 Delaware Ave, Delmar, NY 12054, Uni
 ted States
ROOM: Board Room
DESCRIPTION:Study hall at the library.
URL:https://bethlehem.librarycalendar.com/event/study-hall-library-31527
END:VEVENT
END:VCALENDAR
