BEGIN:VCALENDAR
VERSION:2.0
PRODID:-//Library Market//iCal Export//EN
BEGIN:VEVENT
SUMMARY:Study Hall at the Library
UID:31525
DTSTAMP:20260424T233500Z
DTSTART:20260510T160000Z
DTEND:20260510T204500Z
LOCATION:Bethlehem Public Library, 451 Delaware Ave, Delmar, NY 12054, Uni
 ted States
ROOM: Board Room
DESCRIPTION:Study hall at the library.
URL:https://bethlehem.librarycalendar.com/event/study-hall-library-31525
END:VEVENT
END:VCALENDAR
