BEGIN:VCALENDAR
VERSION:2.0
PRODID:-//Library Market//iCal Export//EN
BEGIN:VEVENT
SUMMARY:Bee Hydration Stations
UID:31488
DTSTAMP:20260426T034600Z
DTSTART:20260606T180000Z
DTEND:20260606T200000Z
LOCATION:Bethlehem Public Library, 451 Delaware Ave, Delmar, NY 12054, Uni
 ted States
ROOM: Community Room
DESCRIPTION:Spend a fun June afternoon making water stations for our small
  bee friends. If you have a favorite, feel free to bring your own rock to 
 use for a base.
URL:https://bethlehem.librarycalendar.com/event/em-hold-31488
END:VEVENT
END:VCALENDAR
