BEGIN:VCALENDAR
VERSION:2.0
PRODID:-//Library Market//iCal Export//EN
BEGIN:VEVENT
SUMMARY:May the Fourth Crafts
UID:31409
DTSTAMP:20260424T025400Z
DTSTART:20260504T140000Z
DTEND:20260504T150000Z
LOCATION:Bethlehem Public Library, 451 Delaware Ave, Delmar, NY 12054, Uni
 ted States
ROOM: Community Room
DESCRIPTION:Young Jedis are invited to celebrate May the Fourth with Star 
 Wars-themed crafts!
URL:https://bethlehem.librarycalendar.com/event/ys-hold-star-wars-day-3140
 9
END:VEVENT
END:VCALENDAR
