BEGIN:VCALENDAR
VERSION:2.0
PRODID:-//Library Market//iCal Export//EN
BEGIN:VEVENT
SUMMARY:Saturday Story Time
UID:31345
DTSTAMP:20260425T112200Z
DTSTART:20260502T150000Z
DTEND:20260502T153000Z
LOCATION:Bethlehem Public Library, 451 Delaware Ave, Delmar, NY 12054, Uni
 ted States
ROOM: Community Room
DESCRIPTION:
URL:https://bethlehem.librarycalendar.com/event/saturday-story-time-31345
END:VEVENT
END:VCALENDAR
