BEGIN:VCALENDAR
VERSION:2.0
PRODID:-//Library Market//iCal Export//EN
BEGIN:VEVENT
SUMMARY:Music and Movement
UID:31327
DTSTAMP:20260424T025400Z
DTSTART:20260512T150000Z
DTEND:20260512T153000Z
LOCATION:Bethlehem Public Library, 451 Delaware Ave, Delmar, NY 12054, Uni
 ted States
ROOM: Community Room
DESCRIPTION:
URL:https://bethlehem.librarycalendar.com/event/music-and-movement-31327
END:VEVENT
END:VCALENDAR
