BEGIN:VCALENDAR
VERSION:2.0
PRODID:-//Library Market//iCal Export//EN
BEGIN:VEVENT
SUMMARY:Tiny Tots
UID:31324
DTSTAMP:20260424T233600Z
DTSTART:20260505T140000Z
DTEND:20260505T143000Z
LOCATION:Bethlehem Public Library, 451 Delaware Ave, Delmar, NY 12054, Uni
 ted States
ROOM: Community Room
DESCRIPTION:
URL:https://bethlehem.librarycalendar.com/event/tiny-tots-31324
END:VEVENT
END:VCALENDAR
