BEGIN:VCALENDAR
VERSION:2.0
PRODID:-//Library Market//iCal Export//EN
BEGIN:VEVENT
SUMMARY:In Stitches
UID:30126
DTSTAMP:20260424T161700Z
DTSTART:20260527T220000Z
DTEND:20260527T233000Z
LOCATION:Bethlehem Public Library, 451 Delaware Ave, Delmar, NY 12054, Uni
 ted States
ROOM: Board Room
DESCRIPTION:
URL:https://bethlehem.librarycalendar.com/event/stitches-hold-30126
END:VEVENT
END:VCALENDAR
