BEGIN:VCALENDAR
VERSION:2.0
PRODID:-//Library Market//iCal Export//EN
BEGIN:VEVENT
SUMMARY:Wednesday Night Whatsit
UID:30066
DTSTAMP:20260423T224700Z
DTSTART:20260506T220000Z
DTEND:20260507T000000Z
LOCATION:Bethlehem Public Library, 451 Delaware Ave, Delmar, NY 12054, Uni
 ted States
ROOM: Community Room
DESCRIPTION:Whatsit? It&#039;s what you make it! We&#039;ll have the Ninte
 ndo Switch with games on the big screen, snacks and drinks, along with tab
 les for games, chatting or hanging out with friends. 
URL:https://bethlehem.librarycalendar.com/event/sr-hold-30066
END:VEVENT
END:VCALENDAR
